BEGIN:VCALENDAR
PRODID:-//AT Content Types//AT Event//EN
VERSION:2.0
METHOD:PUBLISH
BEGIN:VEVENT
DTSTAMP:20260419T163636Z
CREATED:20080603T060654Z
UID:ATEvent-339214226bfe18e71fbad4a27c52457e
LAST-MODIFIED:20080603T060704Z
SUMMARY:REDWatch Monthly Meeting - 4th June 6pm
DTSTART:20080604T080000Z
DTEND:20080604T100000Z
DESCRIPTION:Come along to the REDWatch Meeting which this month will b
 e focusing on the RWA's North Eveleigh Concept Plan.
LOCATION:The Factory\, 67 Raglan Street Waterloo
CATEGORIES:Meeting
CONTACT:Geoffrey Turnbull\, 9318 0824\, mail@redwatch.org.au
CLASS:PUBLIC
END:VEVENT
END:VCALENDAR
