BEGIN:VCALENDAR
PRODID:-//AT Content Types//AT Event//EN
VERSION:2.0
METHOD:PUBLISH
BEGIN:VEVENT
DTSTAMP:20260423T054941Z
CREATED:20080626T031222Z
UID:ATEvent-8c97a55d969a58ffb4814e802a79c680
LAST-MODIFIED:20080626T031236Z
SUMMARY:ILC National Indigenous Development Centre Consultation – Thursday 26th June 2008 3.00-6.30pm
DTSTART:20080626T050000Z
DTEND:20080626T083000Z
DESCRIPTION:The Indigenous Land Corporation is holding an ‘Open Hous
 e’ to provide information to the local community and other intereste
 d stakeholders.
LOCATION:Old Redfern Public School\, George Street\, Redfern. Entrance off George Street.
CATEGORIES:Exhibition
CONTACT:Stuart Waters at Twyford Consulting\, 1800 11 00 55\, Twyford@twyford.com.au
CLASS:PUBLIC
END:VEVENT
END:VCALENDAR
