BEGIN:VCALENDAR
PRODID:-//AT Content Types//AT Event//EN
VERSION:2.0
METHOD:PUBLISH
BEGIN:VEVENT
DTSTAMP:20260423T054940Z
CREATED:20080626T030153Z
UID:ATEvent-a41cb9dc8d0b4fa8e448354970ebc779
LAST-MODIFIED:20080626T030211Z
SUMMARY:REDWatch – This Month’s Meeting Tuesday 1st July 2008 6pm
DTSTART:20080701T080000Z
DTEND:20080701T100000Z
DESCRIPTION:Council has rearranged its Redfern Community Forum to the 
 night that REDWatch normally meets\, so the REDWatch meeting will be b
 ought forward to Tuesday 1st July at The Factory. The July meeting wil
 l follow up on the North Eveleigh Concept Plan by looking at the Unive
 rsity’s plans for the area.
LOCATION:The Factory Community Centre\, 67 Raglan St Waterloo
CATEGORIES:Meeting
CONTACT:Geoff Turnbull\, 9318 0824\, mail@redwatch.org.au
CLASS:PUBLIC
END:VEVENT
END:VCALENDAR
