BEGIN:VCALENDAR
PRODID:-//AT Content Types//AT Event//EN
VERSION:2.0
METHOD:PUBLISH
BEGIN:VEVENT
DTSTAMP:20260423T055001Z
CREATED:20080626T030739Z
UID:ATEvent-81aded9875daaa489caaf9d8fc6d02ab
LAST-MODIFIED:20080626T030802Z
SUMMARY:CoS Inner South Community Forum (Redfern\, Waterloo & Eveleigh) - Wednesday 2nd July 6.00pm to 8.30pm
DTSTART:20080702T080000Z
DTEND:20080702T103000Z
DESCRIPTION:As with previous Community Forums there will be a time fro
 m 6pm until 6.45 to raise your own issues with Council officers and co
 uncillors. This will be followed by updates on Local Action Plan\, Red
 fern Street public art project\, Redfern Park and Oval\, public domain
  and landscaping works\, the City Plan\, Sustainable Sydney 2030 and l
 ocal development applications.
LOCATION:Redfern Town Hall\, 71 Pitt Street\, Redfern
CATEGORIES:Meeting
URL:http://www.cityofsydney.nsw.gov.au/Council/MeetingsAndCommittees/2008/PublicMeetings/InnerSouthCommunityForum020708.asp
CLASS:PUBLIC
END:VEVENT
END:VCALENDAR
