BEGIN:VCALENDAR
PRODID:-//AT Content Types//AT Event//EN
VERSION:2.0
METHOD:PUBLISH
BEGIN:VEVENT
DTSTAMP:20260421T005959Z
CREATED:20080718T094039Z
UID:ATEvent-3fc85fc8f16dcc9a043f48279e42f765
LAST-MODIFIED:20080718T095626Z
SUMMARY:ATP's Blacksmithshop Open Day - 17th August 2008
DTSTART:20080817T000000Z
DTEND:20080817T040000Z
DESCRIPTION:An Open Day will be held on Sunday 17th August 2008 from 1
 0am – 2 pm at the ATP's Blacksmiths Shop with tours on the hour of t
 he workshop\, blacksmithing demonstrations and explanations of steam p
 owered blacksmithing assemblages by Guido the Blacksmith.
LOCATION:Wrought Artworks\, Australian Technology Park\, Locomotive workshop\, (Bays 1 & 2)\, Garden St\, Alexandria
CATEGORIES:Exhibition
CONTACT:Wendie McCaffley or Guido Gouvernueur\, 02 931 96190\, info@wroughtartworks.com.au
URL:http://www.redwatch.org.au/RWA/statesignificant/atp/blacksmith
CLASS:PUBLIC
END:VEVENT
END:VCALENDAR
