BEGIN:VCALENDAR
PRODID:-//AT Content Types//AT Event//EN
VERSION:2.0
METHOD:PUBLISH
BEGIN:VEVENT
DTSTAMP:20260422T133932Z
CREATED:20080818T172157Z
UID:ATEvent-99f48d3164469d9c3a2785be765a69c8
LAST-MODIFIED:20080818T172242Z
SUMMARY:Dr Meredith Burgman The Labor Party's Lord Mayoral candidate
DTSTART:20080823T010000Z
DTEND:20080823T023000Z
DESCRIPTION:Darlington ALP  invite you to meet with Dr Meredith Burgma
 n  the Labor Party's Lord Mayoral  candidate  and her Team and have yo
 ur say about the issues you want to see addressed.
LOCATION:Hall in Holden Street
CATEGORIES:Meeting
CONTACT:Trevor Davies\, 0400008338
CLASS:PUBLIC
END:VEVENT
END:VCALENDAR
