BEGIN:VCALENDAR
PRODID:-//AT Content Types//AT Event//EN
VERSION:2.0
METHOD:PUBLISH
BEGIN:VEVENT
DTSTAMP:20260422T023609Z
CREATED:20080731T064205Z
UID:ATEvent-61945fc9e73235f7de2548f79317503b
LAST-MODIFIED:20080815T104528Z
SUMMARY:Walking tour of University & 2020 Masterplan Meeting - 23rd August 2008
DTSTART:20080823T020000Z
DTEND:20080823T060000Z
DESCRIPTION:At the City of Sydney's North Eveleigh Community Forum\, U
 niversity of Sydney announced a tour of the University was being plann
 ed to enable residents to find out more about the University and its p
 lans.
CATEGORIES:Meeting
CONTACT:Lauren at Elton Consulting\, 9387 2600\, lauren@elton.com.au
CLASS:PUBLIC
END:VEVENT
END:VCALENDAR
