BEGIN:VCALENDAR
PRODID:-//AT Content Types//AT Event//EN
VERSION:1.0
BEGIN:VEVENT
DTSTART:20081204T230000Z
DTEND:20081205T003000Z
DCREATED:20081125T022336Z
UID:ATEvent-b978a5d974dae09b353c288528eed80c
SEQUENCE:0
LAST-MODIFIED:20081128T010530Z
SUMMARY:CoS Redfern Public Housing Forum - 10am Friday 5 December 2008
DESCRIPTION:The Lord Mayor Clover Moore MP will be hosting a community
  meetings in Redfern and Waterloo for public housing tenants.
LOCATION:The Redfern Centre\, 9 Ogden Lane ( behind St. Saviours Anglican Church\, Young Street),
PRIORITY:3
TRANSP:0
END:VEVENT
END:VCALENDAR
