BEGIN:VCALENDAR
PRODID:-//AT Content Types//AT Event//EN
VERSION:2.0
METHOD:PUBLISH
BEGIN:VEVENT
DTSTAMP:20260421T161159Z
CREATED:20090411T084901Z
UID:ATEvent-3210909311973217be59e3beae29980f
LAST-MODIFIED:20090411T084948Z
SUMMARY:Older and Wiser Partnership strategy Steering Group - 17th April 2009 10am
DTSTART:20090417T140000Z
DTEND:20090417T160000Z
DESCRIPTION:A Joint projects between South Sydney Uniting Church\, Mer
 cy Arms\, the Factory and others aimed at promoting older people contr
 ibution to community life. The program will be rolled out over the cou
 rse of 2009 resulting in a week long showcase festival of the individu
 al projects in the first week of September 2009.
LOCATION:Factory Community Centre\, 67 Raglan Street\, Waterloo 2017
CATEGORIES:Meeting
CONTACT:Mike at the Factory\, 9698 9569
CLASS:PUBLIC
END:VEVENT
END:VCALENDAR
