BEGIN:VCALENDAR
PRODID:-//AT Content Types//AT Event//EN
VERSION:2.0
METHOD:PUBLISH
BEGIN:VEVENT
DTSTAMP:20260423T011345Z
CREATED:20090409T043930Z
UID:ATEvent-846e8faafe83c43222c222e9f3334866
LAST-MODIFIED:20090427T234949Z
SUMMARY:Memorial Sculpture in honour of the work of Mum Shirl and Father Ted Kennedy
DTSTART:20090418T170000Z
DTEND:20090418T190000Z
DESCRIPTION:The Tom Bass Sculpture Studio School and Community of St V
 incent’s Church Redfern are inviting public comment on a memorial to
  the shared work Fr Ted and Mum Shirl. The presentation with model and
  photographs will take place at the Block.\n \nThe sculpture is abstra
 ct in expression and presents the spirit of Mum Shirl and Ted Kennedy 
 through connecting hands. Their lives exemplified the best of the Aust
 ralian spirit.  They worked to establish a society where justice\, dig
 nity and freedom could be enjoyed by all citizens\, whether Aboriginal
  or settlers.
LOCATION:The Block
CATEGORIES:Memorial
CONTACT:Margo Hoekstra \, margohoekstra@optusnet.com.au
URL:http://www.tombasssculptureschool.org.au
CLASS:PUBLIC
END:VEVENT
END:VCALENDAR
