BEGIN:VCALENDAR
PRODID:-//AT Content Types//AT Event//EN
VERSION:2.0
METHOD:PUBLISH
BEGIN:VEVENT
DTSTAMP:20260421T160902Z
CREATED:20090412T064947Z
UID:ATEvent-82cfda4701adeb6d6cd5779452783e71
LAST-MODIFIED:20090412T065024Z
SUMMARY:Steam Tripple Header to Maitland Steamfest on Sunday 19th April 2009
DTSTART:20090419T113500Z
DTEND:20090420T014000Z
DESCRIPTION:3 Steam Engines will haul 3801 Ltd's train to the Hunter V
 alley Steamfest at Maitland! The engines are 3237* + 5917* + 3830# (*b
 y courtesy of Lachlan Valley Railway Society #by courtesy of Powerhous
 e Museum)\nSunday 19th April 2009
LOCATION:ex Central Station
CATEGORIES:Social Event
CONTACT:1300 65 3801
URL:http://www.3801limited.com.au
CLASS:PUBLIC
END:VEVENT
END:VCALENDAR
