BEGIN:VCALENDAR
PRODID:-//AT Content Types//AT Event//EN
VERSION:2.0
METHOD:PUBLISH
BEGIN:VEVENT
DTSTAMP:20260421T160624Z
CREATED:20090411T083246Z
UID:ATEvent-25832784a0b98ef4b07f967f7c98de85
LAST-MODIFIED:20090411T083258Z
SUMMARY:South Sydney Inter-Agency meeting - 22nd April 2009
DTSTART:20090422T180000Z
DTEND:20090422T200000Z
DESCRIPTION:The next South Sydney interagency take place on the above 
 date. This is a great opportunity for formal information sharing\, joi
 nt planning and discussion. First half of the meeting is dedicated to 
 NGO’s and the second half Government agencies can attend.
LOCATION:Redfern Townhall
CATEGORIES:Meeting
CONTACT:Pam MarshInner Sydney Regional Council   for Social Development\,  (02) 9698 7461
CLASS:PUBLIC
END:VEVENT
END:VCALENDAR
