BEGIN:VCALENDAR
PRODID:-//AT Content Types//AT Event//EN
VERSION:2.0
METHOD:PUBLISH
BEGIN:VEVENT
DTSTAMP:20260421T120833Z
CREATED:20090421T025256Z
UID:ATEvent-31af2735a3e62f717e58c24a35f6c139
LAST-MODIFIED:20090421T025303Z
SUMMARY:WANT TO SAVE MONEY AND THE ENVIRONMENT? - HNSW Workshop
DTSTART:20090424T143000Z
DTEND:20090424T160000Z
DESCRIPTION:Housing NSW invites residents to attend FREE ENVIRONMENTAL
  WORKSHOPS in your local area\, learn how to cut down on your energy a
 nd water bills and protect our environment.
LOCATION:The Factory Community Centre\, 67 Raglan Street\, Waterlo
CATEGORIES:Meeting
CONTACT:Christine\, 8753 8955
CLASS:PUBLIC
END:VEVENT
END:VCALENDAR
