BEGIN:VCALENDAR
PRODID:-//AT Content Types//AT Event//EN
VERSION:2.0
METHOD:PUBLISH
BEGIN:VEVENT
DTSTAMP:20260423T041134Z
CREATED:20090501T063451Z
UID:ATEvent-1e8453e58964865e336cf2d75359c2ad
LAST-MODIFIED:20090501T063625Z
SUMMARY:Eveleigh Artisans' Arts and Craft Market - 3 May 2009
DTSTART:20090503T140000Z
DTEND:20090503T200000Z
DESCRIPTION:Happens 1st Sunday of every Month.
LOCATION:Eveleigh Markets - 234 Wilson Street Darlington
CATEGORIES:Market
URL:http://www.eveleighmarkets.com.au
CLASS:PUBLIC
END:VEVENT
END:VCALENDAR
