BEGIN:VCALENDAR
PRODID:-//AT Content Types//AT Event//EN
VERSION:2.0
METHOD:PUBLISH
BEGIN:VEVENT
DTSTAMP:20260423T011358Z
CREATED:20090421T022211Z
UID:ATEvent-bf1b54bc9c61b3b8950d80469cd9ba6a
LAST-MODIFIED:20090513T064742Z
SUMMARY:REDWatch Forum - What is the Future of Community Safety in Redfern Waterloo? - 6 May 2009
DTSTART:20090506T220000Z
DTEND:20090507T000000Z
DESCRIPTION:REDWatch has asked Suzie Matthews the City of Sydney Manag
 er - Social Policy and Community Support\, to make an opening presenta
 tion. This will be followed by presentations by other interested agenc
 ies and a discussion about what should follow the area’s Community S
 afety Plan. The forum will be held on Wednesday 6 May 2009 T the Facto
 ry at 6pm.
LOCATION:Factory Community Centre\, 67 Raglan Street Waterloo
CATEGORIES:Meeting
CONTACT:Trevor Davies\, 04 0000 8338 \, mail@redwatch.org.au
URL:http://www.redwatch.org.au/Events/eventnotice/090506redwatchp/download
CLASS:PUBLIC
END:VEVENT
END:VCALENDAR
