BEGIN:VCALENDAR
PRODID:-//AT Content Types//AT Event//EN
VERSION:1.0
BEGIN:VEVENT
DTSTART:20090508T183000Z
DTEND:20090508T203000Z
DCREATED:20090411T082644Z
UID:ATEvent-3e87d04fd4932696832bb31340ba2760
SEQUENCE:0
LAST-MODIFIED:20090411T082808Z
SUMMARY:Redfern/ Waterloo Health Service Providers Forum\, Friday 8th May 09
DESCRIPTION:Forum for Health services within Redfern/Waterloo with gue
 st speakers
LOCATION:Redfern TOWNHALL\, Pitt St\, Redfern
PRIORITY:3
TRANSP:0
END:VEVENT
END:VCALENDAR
