BEGIN:VCALENDAR
PRODID:-//AT Content Types//AT Event//EN
VERSION:2.0
METHOD:PUBLISH
BEGIN:VEVENT
DTSTAMP:20260422T120439Z
CREATED:20090424T081557Z
UID:ATEvent-3cdc6db6c9bf96911acc4c2cad3a6dec
LAST-MODIFIED:20090513T085722Z
SUMMARY:Vietnamese South Sydney Community Aid Lunch 18 May 2009
DTSTART:20090518T160000Z
DTEND:20090518T180000Z
DESCRIPTION:All Vietnamese are cordially invited to a special lunch ge
 t-together to have fun\, to learn how the centre can help you and to e
 njoy authentic home-made Vietnamese cuisines
LOCATION:The Alexandria Town Hall 73 Garden Street\, Alexandria (upstairs)
CATEGORIES:Social Event
CONTACT:Jhan\, Huong (speaking Vietnamese)\, 9319 4073\, mnc@ssca.org.au
CLASS:PUBLIC
END:VEVENT
END:VCALENDAR
