BEGIN:VCALENDAR
PRODID:-//AT Content Types//AT Event//EN
VERSION:2.0
METHOD:PUBLISH
BEGIN:VEVENT
DTSTAMP:20260423T011229Z
CREATED:20090428T043118Z
UID:ATEvent-76299d623f19e9ac1404cf8b89d688d1
LAST-MODIFIED:20090428T043411Z
SUMMARY:Finders Keepers Autumn/Winter 09 design markets - 15 & 16 May 2009
DTSTART:20090515T220000Z
DTEND:20090517T020000Z
DESCRIPTION:Following the success of the very first Finders Keepers de
 sign markets held in December\, the founders Sarah Thornton and Brooke
  Johnston have announced new dates for Autumn/Winter 2009. The Finders
  Keepers market will once again be held at contemporary art centre Car
 riageWorks in Sydneyʼs Inner West and will showcase over 75 young des
 igners\, artists and musicians.
LOCATION:CarriageWorks\, 245 Wilson Street Eveleigh
CATEGORIES:Market
URL:http://www.thefinderskeepers.com
CLASS:PUBLIC
END:VEVENT
END:VCALENDAR
