BEGIN:VCALENDAR
PRODID:-//AT Content Types//AT Event//EN
VERSION:2.0
METHOD:PUBLISH
BEGIN:VEVENT
DTSTAMP:20260424T104428Z
CREATED:20090515T004741Z
UID:ATEvent-6c3405408f558dafbb6d3058bdcf8d73
LAST-MODIFIED:20090515T004836Z
SUMMARY:Commemoration Service For Aboriginal and Torres Strait Islander Veterans - 29 May 2009
DTSTART:20090529T150000Z
DTEND:20090529T160000Z
DESCRIPTION:Announcing the third Commemoration Service For Aboriginal 
 and Torres Strait Islander Veterans  at ANZAC Memorial Hyde Park South
 .
LOCATION:ANZAC MEMORIAL HYDE PARK SOUTH
CATEGORIES:Memorial
CLASS:PUBLIC
END:VEVENT
END:VCALENDAR
