BEGIN:VCALENDAR
PRODID:-//AT Content Types//AT Event//EN
VERSION:1.0
BEGIN:VEVENT
DTSTART:20090602T213000Z
DTEND:20090602T230000Z
DCREATED:20090513T100055Z
UID:ATEvent-2e35ca7ed6b190c4ffbae23f620d4d50
SEQUENCE:0
LAST-MODIFIED:20090513T100140Z
SUMMARY:RWCC ATP Business Networking Function - 2 June 2009
DESCRIPTION:Kindly hosted by Redfern WaterLao Authority at the Austral
 ian Technology Park
LOCATION:Australian Technology Park Meeting Room 5C LeveL 1\, Bay 8\, Locomotive Workshop Henderson Road\, EveLeighFree parking is available onsite
PRIORITY:3
TRANSP:0
END:VEVENT
END:VCALENDAR
