BEGIN:VCALENDAR
PRODID:-//AT Content Types//AT Event//EN
VERSION:1.0
BEGIN:VEVENT
DTSTART:20090603T150000Z
DTEND:20090603T180000Z
DCREATED:20090513T082415Z
UID:ATEvent-b6cb077e25021912f27fd6b9a1f5e59b
SEQUENCE:0
LAST-MODIFIED:20090513T084259Z
SUMMARY:Good Neighbour BBQ - Waterloo Green - Wednesday 3 June 2009
DESCRIPTION:Redfern Police and City of Sydney Council are organising a
  series of Good Neighbour BBQs. There will be crime prevention informa
 tion\, activities for the kids and a free BBQ. Residents will be able 
 to speak with Police and Council about any concerns.
LOCATION:Waterloo Green\, Raglan St Waterloo
PRIORITY:3
TRANSP:0
END:VEVENT
END:VCALENDAR
