BEGIN:VCALENDAR
PRODID:-//AT Content Types//AT Event//EN
VERSION:2.0
METHOD:PUBLISH
BEGIN:VEVENT
DTSTAMP:20260424T171121Z
CREATED:20090825T031035Z
UID:ATEvent-06c08dcfe22fd3ea6b0cd6aa220c1810
LAST-MODIFIED:20090914T075002Z
SUMMARY:REDWATER Community Markets
DTSTART:20090919T120000Z
DTEND:20090919T200000Z
DESCRIPTION:The New RedWater Community Markets will be held on the 3rd
  Saturday of each month at Redfern Park.  These community markets are 
 sponsored by the City of Sydney as part of a local community action pl
 an and are organised by the Housing Communities Program at the Factory
  Community Centre in partnership with Surry Hills Neighborhood Centre 
 and others. All monies raised from the stall holder fees for the marke
 ts are injected back into supporting local environmental community pro
 jects such as the Waterloo Recycling Workshop.\n\n \n\nAs the market i
 s part of local community action on climate change\, the focus of the 
 market (though not exclusively) is on sustainable goods which are hand
 made\, recycled\, or second hand\, and are environmentally friendly. T
 his is to assist in the reduction of waste strategies of the City of S
 ydney Council. However\, all good sold must be of reasonably high qual
 ity.
LOCATION:Redfern Park
CATEGORIES:Market
CONTACT:9698 9569\, info@the-factroy.org.au
CLASS:PUBLIC
END:VEVENT
END:VCALENDAR
