BEGIN:VCALENDAR
PRODID:-//AT Content Types//AT Event//EN
VERSION:1.0
BEGIN:VEVENT
DTSTART:20091031T150000Z
DTEND:20091031T230000Z
DCREATED:20091029T023226Z
UID:ATEvent-aa30473f8b273c8bf58c571178027e42
SEQUENCE:0
LAST-MODIFIED:20091029T023640Z
SUMMARY:The Family & Culture Day
DESCRIPTION:I hope you can make it\, because it will be a special day\
 , and a perfect opportunity for our mobs to acknowledge the Families a
 nd Victims of our Pacific Islanders brothers and sisters who have been
  affected by the recent tsunami.\n\nFood Stalls\, with delicious nativ
 e foods and healthy fresh fruit. \n\nWith your hosts "The Youth Yarn'n
  Circle". Family & Culture Day showcasing Indigenous Culture to the wo
 rld.
PRIORITY:3
TRANSP:0
END:VEVENT
END:VCALENDAR
