BEGIN:VCALENDAR
PRODID:-//AT Content Types//AT Event//EN
VERSION:1.0
BEGIN:VEVENT
DTSTART:20091105T230000Z
DTEND:20091106T010000Z
DCREATED:20091028T014147Z
UID:ATEvent-94dd1290976e1548a07ff379b69125aa
SEQUENCE:0
LAST-MODIFIED:20091113T095901Z
SUMMARY:RWA CEO to Update REDWatch Meeting - 5 November 2009
DESCRIPTION:In March 2009 The Minister for Redfern Waterloo Kristina K
 eneally and the new RWA CEO attended a REDWatch meeting with promises 
 of changes in the way that the RWA related to the Community and addres
 sed the areas issues. As 2009 draws to a close what has really changed
 ?
LOCATION:Factory Community Centre 67 Raglan Street Waterloo
PRIORITY:3
TRANSP:0
END:VEVENT
END:VCALENDAR
