BEGIN:VCALENDAR
PRODID:-//AT Content Types//AT Event//EN
VERSION:2.0
METHOD:PUBLISH
BEGIN:VEVENT
DTSTAMP:20260423T000731Z
CREATED:20091101T035922Z
UID:ATEvent-0f059d64345a02ea45b891d3648938ec
LAST-MODIFIED:20091101T041707Z
SUMMARY:Good Neighbourhood BBQ Redfern - Wed 11 Nov 11-2
DTSTART:20091111T160000Z
DTEND:20091111T190000Z
DESCRIPTION:Come along and meet your neighbours and learn about what w
 e are doing to improve your neighbourhood. The City of Sydney and Poli
 ce are hosting a series of Good Neighbourhood BBQs in your area.
LOCATION:Poet's Corner\, Morehead St\, Redfern
CATEGORIES:Community BBQ
CONTACT:John 9246 7883 or Dominic 9265 9954
CLASS:PUBLIC
END:VEVENT
END:VCALENDAR
