BEGIN:VCALENDAR
PRODID:-//AT Content Types//AT Event//EN
VERSION:1.0
BEGIN:VEVENT
DTSTART:20091204T190000Z
DTEND:20091204T220000Z
DCREATED:20091029T225002Z
UID:ATEvent-b407b7463264384bf3ca99cdecd8f4dc
SEQUENCE:0
LAST-MODIFIED:20091101T044205Z
SUMMARY:Waterloo Summer in the Green (You’re A Star) - 4 December 2009
DESCRIPTION:Waterloo’s Annual Summer on the Green will be held on Fr
 iday 4th December 2009 (2pm till 5) - it will include a free BBQ\, mus
 ic\, and fun activities as well as information about local services an
 d agencies.
PRIORITY:3
TRANSP:0
END:VEVENT
END:VCALENDAR
