BEGIN:VCALENDAR
PRODID:-//AT Content Types//AT Event//EN
VERSION:2.0
METHOD:PUBLISH
BEGIN:VEVENT
DTSTAMP:20260420T184631Z
CREATED:20091209T080115Z
UID:ATEvent-ee78cdc50c9d40f43bee2485ff77eb92
LAST-MODIFIED:20091209T080132Z
SUMMARY:RWCC Christmas Celebration Breakfast - 17th December 2009
DTSTART:20091217T123000Z
DTEND:20091217T140000Z
DESCRIPTION:The Redfern Waterloo Chamber of Commerce (RWCC) cordially 
 invites local business people to join the Executive Committee of the R
 WCC for a deliciously catered Breakfast. This gathering over breakfast
  will give you a chance to meet the new Executive Committee members\, 
 to mark the progress made in the past year and to find out about our p
 lans for 2010.
LOCATION:Park Cafe on Chalmers – Redfern Park (Opposite 265 Chalmers Street\, Redfern)
CONTACT:Mary Lynne Pidcock\, 0419 657 888\, marylynnepidcock@bigpond.com
CLASS:PUBLIC
END:VEVENT
END:VCALENDAR
