BEGIN:VCALENDAR
PRODID:-//AT Content Types//AT Event//EN
VERSION:1.0
BEGIN:VEVENT
DTSTART:20091218T160000Z
DTEND:20091218T200000Z
DCREATED:20091209T075049Z
UID:ATEvent-b541c41552a5520106f30dc519916c2c
SEQUENCE:0
LAST-MODIFIED:20091209T075224Z
SUMMARY:Family & Culture Day & RCC Christmas Celebration - Friday 18 Dec
DESCRIPTION:The last Family & Culture day for the year and it’s a Hu
 ge Xmas party !!!
LOCATION:Redfern Community Centre & The Block Redfern
PRIORITY:3
TRANSP:0
END:VEVENT
END:VCALENDAR
