BEGIN:VCALENDAR
PRODID:-//AT Content Types//AT Event//EN
VERSION:2.0
METHOD:PUBLISH
BEGIN:VEVENT
DTSTAMP:20260420T172909Z
CREATED:20100220T021255Z
UID:ATEvent-747f5b8950330479327dbb3072d04b8f
LAST-MODIFIED:20100220T021805Z
SUMMARY:Monthly Informal Gathering Friday
DTSTART:20100226T020000Z
DTEND:20100226T041500Z
DESCRIPTION:On the last Friday of the month\, we invite agencies and c
 ommunity groups reps and volunteers to come together for an informal l
 unch time ‘get together’.  We meet at the Norfolk Hotel – Clevel
 and Street (Beer Garden).  It is a great chance to take time out of ou
 r busy schedules and catch up with each other\, sharing news\, and inf
 ormation informally.\n\nYou buy your own refreshments and lunch and ca
 n stay a short or as long as time will allow.
LOCATION:Norfolk Hotel – Cleveland Street (Beer Garden)
CATEGORIES:Meeting
CLASS:PUBLIC
END:VEVENT
END:VCALENDAR
