BEGIN:VCALENDAR
PRODID:-//AT Content Types//AT Event//EN
VERSION:1.0
BEGIN:VEVENT
DTSTART:20100302T230000Z
DTEND:20100303T010000Z
DCREATED:20100220T021546Z
UID:ATEvent-22c1f41ebaec74a779ff92b352358bce
SEQUENCE:0
LAST-MODIFIED:20100220T021559Z
SUMMARY:Lord Mayor of Sydney Waterloo Social Housing Community Forums
DESCRIPTION:The Lord Mayor hosts this meeting with Government and non-
 government agencies and residents. It is a great opportunity for you t
 o raise any concerns about you local area and find out about the vario
 us projects and developments that are happing
LOCATION:Factory Community Centre\, 67 Raglan Street\, Waterloo
PRIORITY:3
TRANSP:0
END:VEVENT
END:VCALENDAR
