BEGIN:VCALENDAR
PRODID:-//AT Content Types//AT Event//EN
VERSION:1.0
BEGIN:VEVENT
DTSTART:20100324T030000Z
DTEND:20100324T050000Z
DCREATED:20100220T034744Z
UID:ATEvent-cccebe82dc9fb953947705ad9d303fb5
SEQUENCE:0
LAST-MODIFIED:20100220T034812Z
SUMMARY:Waterloo NABs – Community Safety Action Group
DESCRIPTION:The next round of meetings for the above group is open to 
 all agencies and residents working on Community Safety projects and is
 sues within the Waterloo area. There will also be an update on the pro
 gress of the Waterloo Green Action Plan.
LOCATION:the Factory Community Centre
PRIORITY:3
TRANSP:0
END:VEVENT
END:VCALENDAR
