BEGIN:VCALENDAR
PRODID:-//AT Content Types//AT Event//EN
VERSION:2.0
METHOD:PUBLISH
BEGIN:VEVENT
DTSTAMP:20260422T205717Z
CREATED:20100329T054154Z
UID:ATEvent-220e7bea1dc086442517418309dcca55
LAST-MODIFIED:20100413T032512Z
SUMMARY:Redfern Waterloo Public Transport Forum
DTSTART:20100415T083000Z
DTEND:20100415T100000Z
DESCRIPTION:A Public Forum on the Future of Public Transport in the Ar
 ea to be held at The Factory Community Centre at 67 Raglan Street Wate
 rloo on Thursday 15th April 2010 commencing at 6:30 pm with speakers f
 rom the Community Transport sector\, NSW Rail\, and State Buses.
LOCATION:The Factory Community Centre at 67 Raglan Street Waterloo
CATEGORIES:Meeting
CONTACT:Ross Smith\, mail@redwatch.org.au
CLASS:PUBLIC
END:VEVENT
END:VCALENDAR
