BEGIN:VCALENDAR
PRODID:-//AT Content Types//AT Event//EN
VERSION:1.0
BEGIN:VEVENT
DTSTART:20100418T000000Z
DTEND:20100418T020000Z
DCREATED:20100407T054225Z
UID:ATEvent-9816298d7f77d2887bc25d5226ba568c
SEQUENCE:0
LAST-MODIFIED:20100407T055824Z
SUMMARY:Me-mel: Goat Island through Bennelong’s Eyes - Sunday 18th April 2010
DESCRIPTION:Cruise to Goat Island to discover the Aboriginal cultural 
 heritage of Goat Island.
LOCATION:GOAT ISLAND
PRIORITY:3
TRANSP:0
END:VEVENT
END:VCALENDAR
