BEGIN:VCALENDAR
PRODID:-//AT Content Types//AT Event//EN
VERSION:1.0
BEGIN:VEVENT
DTSTART:20100420T083000Z
DTEND:20100420T100000Z
DCREATED:20100329T015619Z
UID:ATEvent-620f8b0589b2632869c9d8d750bea565
SEQUENCE:0
LAST-MODIFIED:20100423T013939Z
SUMMARY:University of Sydney & Darlington / Redfern - Improving the Neighbour Relationship
DESCRIPTION:REDWatch is organising a community meeting with Sydney Uni
 versity Vice Chancellor Michael Spence to explore how the University a
 nd the surrounding community can better work together in the future.
LOCATION:The Sydney University Settlement\, 17 Edward St\, Darlington
PRIORITY:3
TRANSP:0
END:VEVENT
END:VCALENDAR
