BEGIN:VCALENDAR
PRODID:-//AT Content Types//AT Event//EN
VERSION:2.0
METHOD:PUBLISH
BEGIN:VEVENT
DTSTAMP:20260420T155017Z
CREATED:20100407T052400Z
UID:ATEvent-44b9507bc3f52a672551f790a6337816
LAST-MODIFIED:20100407T053523Z
SUMMARY:2010 Redfern ANZAC Commemoration
DTSTART:20100425T023000Z
DTEND:20100425T063000Z
DESCRIPTION:The Coloured Digger Project\, NSW Aboriginal and Torres St
 rait Islander Veterans’ Services Association & Babana Aboriginal Men
 s’ Group Redfern INVITE YOU TO ATTEND 2010 Redfern ANZAC Commemorati
 on
LOCATION:Block to Redfern Park
CATEGORIES:Memorial
CLASS:PUBLIC
END:VEVENT
END:VCALENDAR
