BEGIN:VCALENDAR
PRODID:-//AT Content Types//AT Event//EN
VERSION:2.0
METHOD:PUBLISH
BEGIN:VEVENT
DTSTAMP:20260420T155141Z
CREATED:20100419T063211Z
UID:ATEvent-cc23d523687d14b27daf8af70f2dc6db
LAST-MODIFIED:20100505T055131Z
SUMMARY:Graffiti Action Day 2010
DTSTART:20100502T052000Z
DTEND:20100502T062000Z
DESCRIPTION:Graffiti vandalism has negative financial and social impac
 t upon the community\, specifically residents\, business owners\, loca
 l government and transport operators.\nGraffiti Action Day is a result
  of a partnership between Keep Australia Beautiful & the NSW Governmen
 t and is a first for Australia!\nThe key aims of the Graffiti Action D
 ay are to:\n• Engage the community in removal of graffiti\n• Raise
  awareness of good graffiti removal methods\n• Support non-governmen
 t and community run facilities in repairing\ndamage caused by graffiti
 
LOCATION:George St Waterloo or Morehead St Redfern
CATEGORIES:Meeting
CONTACT:Tuyen Duong\, 9268 3492 or mob: 0434 148 921\, tuyen.duong@housing.nsw.gov.au
URL:http://www.kabnsw.org.au/OurPrograms/GraffitiActionDay.aspx
CLASS:PUBLIC
END:VEVENT
END:VCALENDAR
