BEGIN:VCALENDAR
PRODID:-//AT Content Types//AT Event//EN
VERSION:2.0
METHOD:PUBLISH
BEGIN:VEVENT
DTSTAMP:20260422T203918Z
CREATED:20100421T001150Z
UID:ATEvent-c16d3c6bfc04edb2116fbbe3663c7a1e
LAST-MODIFIED:20100727T073646Z
SUMMARY:Darlington Food Garden Meeting - Saturday 15 May 2010\, 2pm - 5pm
DTSTART:20100515T040000Z
DTEND:20100515T070000Z
DESCRIPTION:When Council talked to local residents about upgrading Cha
 rles Kernan Reserve it was suggested it might include a food garden. I
 n response an area has now been set aside for food growing\, and will 
 be developed as part of the renewal of the reserve. Council are holdin
 g a meeting for those who wish to be involved with the Food Garden on 
 May 15. The letter sent to those who expressed an interest earlier is 
 below.
LOCATION:Redfern Community Centre 29-53 Hugo Street Redfern
CATEGORIES:Meeting
CONTACT:Annie Walker \, 9265 9786 \, anwalker@cityofsydney.nsw.gov.au
CLASS:PUBLIC
END:VEVENT
END:VCALENDAR
