BEGIN:VCALENDAR
PRODID:-//AT Content Types//AT Event//EN
VERSION:2.0
METHOD:PUBLISH
BEGIN:VEVENT
DTSTAMP:20260421T102319Z
CREATED:20100506T054351Z
UID:ATEvent-24026e1daa24b381de9195f220a70635
LAST-MODIFIED:20100506T054708Z
SUMMARY:RWCC Networking Function -
DTSTART:20100526T073000Z
DTEND:20100526T093000Z
DESCRIPTION:The Redfern Waterloo Chamber of Commerce (RWCC) cordially 
 invites you to their next Member Networking EventAt the Woolpack Hotel
 . Deliciously catered\, this gathering over a relaxing drink will give
  you a chance to meet with your Executive Committee and other members\
 , and to hear about the RWCC Strategic Plan for 2010-2013.
LOCATION:Woolpack Hotel\, 229 Chalmers Street\, Redfern
CATEGORIES:Meeting
CONTACT:Mary Lynne Pidcock\, marylynnepidcock@bigpond.com
CLASS:PUBLIC
END:VEVENT
END:VCALENDAR
