BEGIN:VCALENDAR
PRODID:-//AT Content Types//AT Event//EN
VERSION:1.0
BEGIN:VEVENT
DTSTART:20100527T083000Z
DTEND:20100527T110000Z
DCREATED:20100506T060054Z
UID:ATEvent-e25f4ee343cb031c8b9e117c9cbe3604
SEQUENCE:0
LAST-MODIFIED:20100506T061045Z
SUMMARY:Gathering Ground 2010: Timelessness past\, present and future
DESCRIPTION:Gathering Ground is Back for its Third Performance. If you
  have seen either of the earlier performances you will want to come ba
 ck - if not don't miss this opportunity. [We have added a link below w
 here you can see some photo's from the last Gathering Grounds].
LOCATION:The Block\, Redfern
PRIORITY:3
TRANSP:0
END:VEVENT
END:VCALENDAR
