BEGIN:VCALENDAR
PRODID:-//AT Content Types//AT Event//EN
VERSION:2.0
METHOD:PUBLISH
BEGIN:VEVENT
DTSTAMP:20260422T170041Z
CREATED:20100518T073640Z
UID:ATEvent-3061331c88ac73b6d8be1914d376dd95
LAST-MODIFIED:20100727T073739Z
SUMMARY:HNSW - Site Visit to HNSW’s Bonnyrigg Renewal Project - Thursday 3 June 2010
DTSTART:20100602T231500Z
DTEND:20100603T053000Z
DESCRIPTION:Stage 1 of the Bonnyrigg Renewal project is almost complet
 e. On this site visit\, you will get to see the quality of the new dev
 elopment\, the housing form and see inside some newly built social hou
 sing properties. This is one of a series of special events about commu
 nity and urban renewal for residents and local organisations in Redfer
 n and Waterloo.
LOCATION:Pick up at the Factory Community Centre at 9.15 am
CATEGORIES:Site Visit
CONTACT:Tuyen Duong\, (02) 9268 3492\, tuyen.duong@housing.nsw.gov.au
CLASS:PUBLIC
END:VEVENT
END:VCALENDAR
