BEGIN:VCALENDAR
PRODID:-//AT Content Types//AT Event//EN
VERSION:1.0
BEGIN:VEVENT
DTSTART:20100705T071500Z
DTEND:20100705T091500Z
DCREATED:20100702T003201Z
UID:ATEvent-36ab9982c0250ef85d5f28ad3ddcfc13
SEQUENCE:0
LAST-MODIFIED:20100727T080012Z
SUMMARY:Save Leamington Avenue Meeting - 5 July 2010
DESCRIPTION:Residents of Leamington Ave have arranged a meeting at Dar
 lington Public School from 5.15pm to 7.15 pm for local residents and s
 upporters to inform people about the Transport NSW Plans and to discus
 s community action. The text of their leaflet can be found below:
LOCATION:Darlington Public School cnr Abercrombie St and Golden Grove\, entrance in Abercrombie St
PRIORITY:3
TRANSP:0
END:VEVENT
END:VCALENDAR
