BEGIN:VCALENDAR
PRODID:-//AT Content Types//AT Event//EN
VERSION:1.0
BEGIN:VEVENT
DTSTART:20101104T070000Z
DTEND:20101104T090000Z
DCREATED:20100602T005111Z
UID:ATEvent-82b45c55647b1aa7752c07d9c8ac4bc3
SEQUENCE:0
LAST-MODIFIED:20101108T233021Z
SUMMARY:REDWatch Monthly Meeting
DESCRIPTION:Come along to the monthly REDWatch meeting and meet others
  who live and work in the area and to discuss local issues and how we 
 should engauge with Government.
LOCATION:Factory Community Centre\, 67 Raglan St Waterloo
PRIORITY:3
TRANSP:0
END:VEVENT
END:VCALENDAR
