BEGIN:VCALENDAR
PRODID:-//AT Content Types//AT Event//EN
VERSION:2.0
METHOD:PUBLISH
BEGIN:VEVENT
DTSTAMP:20260422T165911Z
CREATED:20100602T005111Z
UID:ATEvent-10a0992e8b91b9b3d2ac4d0053224517
LAST-MODIFIED:20101207T085746Z
SUMMARY:REDWatch Monthly Meeting - End of Year Party
DTSTART:20101202T230000Z
DTEND:20101203T010000Z
DESCRIPTION:Members and Supporters of REDWatch are invited to Geoff an
 d Lyn's house for an end of year get together in leiu of the final mee
 ting for the year.
LOCATION:140 Lawson Street Redfern
CATEGORIES:Meeting
CONTACT:Geoffrey Turnbull\, (02) 8004 1490\, mail@redwatch.org.au
CLASS:PUBLIC
END:VEVENT
END:VCALENDAR
