BEGIN:VCALENDAR
PRODID:-//AT Content Types//AT Event//EN
VERSION:2.0
METHOD:PUBLISH
BEGIN:VEVENT
DTSTAMP:20260421T033632Z
CREATED:20110202T075133Z
UID:ATEvent-d4acc00040b6d4a95b16cb0afd23f0ac
LAST-MODIFIED:20110215T095849Z
SUMMARY:REDWatch BEP2 Meeting with RWA & HNSW - 3 February 2011
DTSTART:20110203T230000Z
DTEND:20110204T010000Z
DESCRIPTION:REDWatch invites you to a presentation by RWA CEO Roy Wake
 lin-King\, RWA Planning Staff and Senior HNSW Staff followed by questi
 ons and answers about - RWA’s Draft BEP 2 - Planning Controls for th
 e Redevelopment of the Consolidated Redfern and Waterloo Public Housin
 g Estates. Below are details of the meeting and a brief overview by RE
 DWatch of what is in and not in the BEP2 Plan.
LOCATION:Factory Community Centre\, 67 Raglan Street Waterloo
CATEGORIES:Meeting
CONTACT:Geoff Turnbull\, 02 8004 1490\, mail@redwatch.org.au
CLASS:PUBLIC
END:VEVENT
END:VCALENDAR
