BEGIN:VCALENDAR
PRODID:-//AT Content Types//AT Event//EN
VERSION:1.0
BEGIN:VEVENT
DTSTART:20110214T190000Z
DTEND:20110214T220000Z
DCREATED:20110131T215903Z
UID:ATEvent-6a21ddfc89a232c40aa75072f57ba8ae
SEQUENCE:0
LAST-MODIFIED:20110131T222649Z
SUMMARY:HNSW Redfern Information Session - Our Place 14 Feb 2pm-5pm
DESCRIPTION:Housing NSW are holding information sessions so their tena
 nts can find out more about the Redfern Waterloo Authority Built Envir
 onment Plan that is on exhibition until 28 February 2011. Full session
  details are below.
LOCATION:“Our Place” at the Poet’s Corner Shops
PRIORITY:3
TRANSP:0
END:VEVENT
END:VCALENDAR
