BEGIN:VCALENDAR
PRODID:-//AT Content Types//AT Event//EN
VERSION:2.0
METHOD:PUBLISH
BEGIN:VEVENT
DTSTAMP:20260420T165929Z
CREATED:20110131T215903Z
UID:ATEvent-54c2da33ae625fb50a4b4a9869307580
LAST-MODIFIED:20110131T222957Z
SUMMARY:HNSW Waterloo Submission Writing Workshops - Waterloo Neighbourhood Centre 22 Feb 2pm-5pm
DTSTART:20110222T190000Z
DTEND:20110222T220000Z
DESCRIPTION:Housing NSW are holding information sessions so their tena
 nts can find out more about the Redfern Waterloo Authority Built Envir
 onment Plan that is on exhibition until 28 February 2011. Full session
  details are below.
LOCATION:Waterloo Neighbourhood Centre\, near the IGA at the Waterloo Shops
CONTACT:RedfernWaterloo@dhs.nsw.gov.au
URL:http://www.housing.nsw.gov.au/Changes+to+Social+Housing/Redevelopment/Redfern+Waterloo.htm
CLASS:PUBLIC
END:VEVENT
END:VCALENDAR
