BEGIN:VCALENDAR
PRODID:-//AT Content Types//AT Event//EN
VERSION:1.0
BEGIN:VEVENT
DTSTART:20110222T150000Z
DTEND:20110222T180000Z
DCREATED:20110219T232559Z
UID:ATEvent-964174715d603fce0e432942e61546b5
SEQUENCE:0
LAST-MODIFIED:20110219T233621Z
SUMMARY:HNSW Street Corner Meetings on BEP2 - Waterloo Green 10am - 1pm
DESCRIPTION:Housing NSW are holding street corner meetings around the 
 area in the last week of the exhibition of the Built Environment Plan 
 2 for the redevelopment of the Redfern and Waterloo Public Housing Est
 ates. The full list of information sessions are below.
LOCATION:Waterloo Green
PRIORITY:3
TRANSP:0
END:VEVENT
END:VCALENDAR
