BEGIN:VCALENDAR
PRODID:-//AT Content Types//AT Event//EN
VERSION:2.0
METHOD:PUBLISH
BEGIN:VEVENT
DTSTAMP:20260422T133856Z
CREATED:20110212T002603Z
UID:ATEvent-b8c1d9b299024d85c71dbc416039464b
LAST-MODIFIED:20110212T002949Z
SUMMARY:Good Neighbour BBQ - Waterloo - 23 March 5.30-8.00pm
DTSTART:20110323T213000Z
DTEND:20110324T000000Z
DESCRIPTION:The City of Sydney and local Police are hosting a series o
 f Good Neighbourhood BBQs in your area. Come along and meet your neigh
 bours and learn about what we are doing to improve your neighbourhood.
  The get togethers will feature Kidzzoo mobile animal farm\, live musi
 c\, children’s activities\, a free BBQ and information on safety and
  security initiatives in your area.
LOCATION:Crown Park\, Crystal & Broome Sts Waterloo
CONTACT:City of Sydney: John 9246 7883 or Dom 9265 9954
CLASS:PUBLIC
END:VEVENT
END:VCALENDAR
