BEGIN:VCALENDAR
PRODID:-//AT Content Types//AT Event//EN
VERSION:1.0
BEGIN:VEVENT
DTSTART:20110406T140000Z
DTEND:20110406T160000Z
DCREATED:20110212T004542Z
UID:ATEvent-0f6f67e6b943139fe8290bb404a795cd
SEQUENCE:0
LAST-MODIFIED:20110331T042338Z
SUMMARY:City of Sydney Public Tenant Meeting - Redfern - Wed 6 April
DESCRIPTION:The City Council meeting for local public housing tenants 
 - times to be confirmed.
LOCATION:The Redfern Centre\, Ogden Lane
PRIORITY:3
TRANSP:0
END:VEVENT
END:VCALENDAR
