BEGIN:VCALENDAR
PRODID:-//AT Content Types//AT Event//EN
VERSION:2.0
METHOD:PUBLISH
BEGIN:VEVENT
DTSTAMP:20260423T140830Z
CREATED:20110630T084053Z
UID:ATEvent-52a33414f3edef6af8cb12009a61d0b8
LAST-MODIFIED:20110804T062705Z
SUMMARY:Tanya Plibersek meeting with REDWatch and Groundswell - 4 Aug 7pm
DTSTART:20110804T220000Z
DTEND:20110805T000000Z
DESCRIPTION:The local Federal MP Tanya Plibersek\, Minister for Social
  Services and Social Inclusion will attend the REDWatch Monthly Meetin
 g to talk about her roles in the Government and their relation to the 
 local area. All Groundswell supporters are welcome.
LOCATION:The Factory Community Centre\, 67 Raglan Street Waterloo NSW
CONTACT:Geoffrey Turnbull\, (02) 8004 1490\, mail@redwatch.org.au
CLASS:PUBLIC
END:VEVENT
END:VCALENDAR
